BEGIN:VCALENDAR
VERSION:2.0
PRODID:-//85.93.210.155//NONSGML kigkonsult.se iCalcreator 2.20//
CALSCALE:GREGORIAN
METHOD:PUBLISH
X-WR-TIMEZONE:Europe/Luxembourg
BEGIN:VEVENT
UID:event11@D.T. FÉNGIG A.S.B.L.
DTSTAMP:20210425T093828Z
CATEGORIES:Public
DESCRIPTION:14. Mullenowend\nCategory: Public\nLink: https://dtfengig.lu/in
 dex.php?option=com_jem&view=event&id=11:14-mullenowend\n
DTSTART;VALUE=DATE:20171028
DTEND;VALUE=DATE:20171029
LOCATION:'Vereinsbau' Féngig\,31 Rue Centrale\,4978 Féngig
SUMMARY:14. Mullenowend
URL:https://dtfengig.lu/index.php?option=com_jem&view=event&id=11:14-mullen
 owend
END:VEVENT
END:VCALENDAR
