BEGIN:VCALENDAR
VERSION:2.0
PRODID:-//85.93.210.155//NONSGML kigkonsult.se iCalcreator 2.20//
CALSCALE:GREGORIAN
METHOD:PUBLISH
X-WR-TIMEZONE:Europe/Luxembourg
BEGIN:VEVENT
UID:event3@D.T. FÉNGIG A.S.B.L.
DTSTAMP:20210425T094007Z
CATEGORIES:Public
DESCRIPTION:Dubbelmeschterschaften\nCategory: Public\nLink: https://dtfengi
 g.lu/index.php?option=com_jem&view=event&id=3:dubblemeschterschaften-2017
 \n
DTSTART;TZID=Europe/Luxembourg:20170115T143000
DTEND;TZID=Europe/Luxembourg:20170115T143000
LOCATION:'Vereinsbau' Féngig\,31 Rue Centrale\,4978 Féngig
SUMMARY:Dubbelmeschterschaften
URL:https://dtfengig.lu/index.php?option=com_jem&view=event&id=3:dubblemesc
 hterschaften-2017
END:VEVENT
END:VCALENDAR
