BEGIN:VCALENDAR
VERSION:2.0
PRODID:-//85.93.210.155//NONSGML kigkonsult.se iCalcreator 2.20//
CALSCALE:GREGORIAN
METHOD:PUBLISH
X-WR-TIMEZONE:Europe/Luxembourg
BEGIN:VEVENT
UID:event37@D.T. FÉNGIG A.S.B.L.
DTSTAMP:20210425T093807Z
CATEGORIES:Public
DESCRIPTION:Veterane Coupe\nCategory: Public\nLink: https://dtfengig.lu/ind
 ex.php?option=com_jem&view=event&id=37:veterane-coupe-2017\n
DTSTART;TZID=Europe/Luxembourg:20171119T150000
DTEND;TZID=Europe/Luxembourg:20171119T150000
LOCATION:'Vereinsbau' Féngig\,31 Rue Centrale\,4978 Féngig
SUMMARY:Veterane Coupe
URL:https://dtfengig.lu/index.php?option=com_jem&view=event&id=37:veterane-
 coupe-2017
END:VEVENT
END:VCALENDAR
