BEGIN:VCALENDAR
VERSION:2.0
PRODID:-//85.93.210.155//NONSGML kigkonsult.se iCalcreator 2.20//
CALSCALE:GREGORIAN
METHOD:PUBLISH
X-WR-TIMEZONE:Europe/Luxembourg
BEGIN:VEVENT
UID:event5@D.T. FÉNGIG A.S.B.L.
DTSTAMP:20210425T093944Z
CATEGORIES:Public
DESCRIPTION:DKV Urban Trail\nCategory: Public\nLink: https://dtfengig.lu/in
 dex.php?option=com_jem&view=event&id=5:dkv-urban-trail\n
DTSTART;VALUE=DATE:20170430
DTEND;VALUE=DATE:20170501
LOCATION:Plateau du Saint-Esprit - Luxembourg\,Plateau du Saint Esprit\,147
 5 Luxembourg
SUMMARY:DKV Urban Trail
URL:https://dtfengig.lu/index.php?option=com_jem&view=event&id=5:dkv-urban-
 trail
END:VEVENT
END:VCALENDAR
