BEGIN:VCALENDAR
VERSION:2.0
PRODID:-//85.93.210.155//NONSGML kigkonsult.se iCalcreator 2.20//
CALSCALE:GREGORIAN
METHOD:PUBLISH
X-WR-TIMEZONE:Europe/Luxembourg
BEGIN:VEVENT
UID:event43@D.T. FÉNGIG A.S.B.L.
DTSTAMP:20190819T222111Z
CATEGORIES:Public
DESCRIPTION:12e Marche Gourmande\nCategory: Public\nLink: https://dtfengig.
 lu/index.php?option=com_jem&view=event&id=43:12e-marche-gourmande\n
DTSTART;TZID=Europe/Luxembourg:20190616T090000
DTEND;TZID=Europe/Luxembourg:20190616T220000
LOCATION:'Vereinsbau' Féngig\,31 Rue Centrale\,4978 Féngig\,Luxembourg
SUMMARY:12e Marche Gourmande
URL:https://dtfengig.lu/index.php?option=com_jem&view=event&id=43:12e-march
 e-gourmande
END:VEVENT
END:VCALENDAR
