BEGIN:VCALENDAR
VERSION:2.0
PRODID:-//85.93.210.155//NONSGML kigkonsult.se iCalcreator 2.20//
CALSCALE:GREGORIAN
METHOD:PUBLISH
X-WR-TIMEZONE:Europe/Luxembourg
BEGIN:VEVENT
UID:event1@D.T. FÉNGIG A.S.B.L.
DTSTAMP:20210425T094925Z
CATEGORIES:Public
DESCRIPTION:13. Mullenowend\nCategory: Public\nLink: https://dtfengig.lu/in
 dex.php?option=com_jem&view=event&id=1:mullenowend-2016\n
DTSTART;TZID=Europe/Luxembourg:20161029T190000
DTEND;TZID=Europe/Luxembourg:20161029T190000
LOCATION:'Vereinsbau' Féngig\,31 Rue Centrale\,4978 Féngig
SUMMARY:13. Mullenowend
URL:https://dtfengig.lu/index.php?option=com_jem&view=event&id=1:mullenowen
 d-2016
END:VEVENT
END:VCALENDAR
