BEGIN:VCALENDAR
VERSION:2.0
PRODID:-//85.93.210.155//NONSGML kigkonsult.se iCalcreator 2.20//
CALSCALE:GREGORIAN
METHOD:PUBLISH
X-WR-TIMEZONE:Europe/Luxembourg
BEGIN:VEVENT
UID:event12@D.T. FÉNGIG A.S.B.L.
DTSTAMP:20210425T094645Z
CATEGORIES:Public
DESCRIPTION:Chrëschtfeier fir eis Jugendspiller\nCategory: Public\nLink: ht
 tps://dtfengig.lu/index.php?option=com_jem&view=event&id=12:chr-schtfeier-
 fir-eis-jugendspiller\n
DTSTART;VALUE=DATE:20171216
DTEND;VALUE=DATE:20171217
LOCATION:'Vereinsbau' Féngig\,31 Rue Centrale\,4978 Féngig
SUMMARY:Chrëschtfeier fir eis Jugendspiller
URL:https://dtfengig.lu/index.php?option=com_jem&view=event&id=12:chr-schtf
 eier-fir-eis-jugendspiller
END:VEVENT
END:VCALENDAR
