BEGIN:VCALENDAR
VERSION:2.0
PRODID:-//85.93.210.155//NONSGML kigkonsult.se iCalcreator 2.20//
CALSCALE:GREGORIAN
METHOD:PUBLISH
X-WR-TIMEZONE:Europe/Luxembourg
BEGIN:VEVENT
UID:event13@D.T. FÉNGIG A.S.B.L.
DTSTAMP:20210425T094630Z
CATEGORIES:Public
DESCRIPTION:Coupe Jempy Schmitz\nCategory: Public\nLink: https://dtfengig.l
 u/index.php?option=com_jem&view=event&id=13:coupe-jempy-schmitz\n
DTSTART;TZID=Europe/Luxembourg:20180107T140000
DTEND;TZID=Europe/Luxembourg:20180107T140000
LOCATION:Sportshal Kéinzeg\,Rue de Selange\,4965 Kéinzeg
SUMMARY:Coupe Jempy Schmitz
URL:https://dtfengig.lu/index.php?option=com_jem&view=event&id=13:coupe-jem
 py-schmitz
END:VEVENT
END:VCALENDAR
