BEGIN:VCALENDAR
VERSION:2.0
PRODID:-//85.93.210.155//NONSGML kigkonsult.se iCalcreator 2.20//
CALSCALE:GREGORIAN
METHOD:PUBLISH
X-WR-TIMEZONE:Europe/Luxembourg
BEGIN:VEVENT
UID:event14@D.T. FÉNGIG A.S.B.L.
DTSTAMP:20210425T094602Z
CATEGORIES:Public
DESCRIPTION:60. Grënnungsdag - Hierken- an Träipenowend\nCategory: Public\n
 Link: https://dtfengig.lu/index.php?option=com_jem&view=event&id=14:60-gre
 nnungsdag\n
DTSTART;VALUE=DATE:20180128
DTEND;VALUE=DATE:20180129
LOCATION:'Vereinsbau' Féngig\,31 Rue Centrale\,4978 Féngig
SUMMARY:60. Grënnungsdag - Hierken- an Träipenowend
URL:https://dtfengig.lu/index.php?option=com_jem&view=event&id=14:60-grennu
 ngsdag
END:VEVENT
END:VCALENDAR
