BEGIN:VCALENDAR
VERSION:2.0
PRODID:-//85.93.210.155//NONSGML kigkonsult.se iCalcreator 2.20//
CALSCALE:GREGORIAN
METHOD:PUBLISH
X-WR-TIMEZONE:Europe/Luxembourg
BEGIN:VEVENT
UID:event15@D.T. FÉNGIG A.S.B.L.
DTSTAMP:20210425T094519Z
CATEGORIES:Public
DESCRIPTION:01.Mee Feier\nCategory: Public\nLink: https://dtfengig.lu/index
 .php?option=com_jem&view=event&id=15:01-mee-feier\n
DTSTART;VALUE=DATE:20180501
DTEND;VALUE=DATE:20180502
LOCATION:'Vereinsbau' Féngig\,31 Rue Centrale\,4978 Féngig
SUMMARY:01.Mee Feier
URL:https://dtfengig.lu/index.php?option=com_jem&view=event&id=15:01-mee-fe
 ier
END:VEVENT
END:VCALENDAR
