BEGIN:VCALENDAR
VERSION:2.0
PRODID:-//85.93.210.155//NONSGML kigkonsult.se iCalcreator 2.20//
CALSCALE:GREGORIAN
METHOD:PUBLISH
X-WR-TIMEZONE:Europe/Luxembourg
BEGIN:VEVENT
UID:event16@D.T. FÉNGIG A.S.B.L.
DTSTAMP:20210425T094511Z
CATEGORIES:Public
DESCRIPTION:47e Tournoi de la Bonne Entente\nCategory: Public\nLink: https:
 //dtfengig.lu/index.php?option=com_jem&view=event&id=16:47e-tournoi-de-la-
 bonne-entente\n
DTSTART;VALUE=DATE:20180510
DTEND;VALUE=DATE:20180511
LOCATION:Sportshal Kéinzeg\,Rue de Selange\,4965 Kéinzeg
SUMMARY:47e Tournoi de la Bonne Entente
URL:https://dtfengig.lu/index.php?option=com_jem&view=event&id=16:47e-tourn
 oi-de-la-bonne-entente
END:VEVENT
END:VCALENDAR
