BEGIN:VCALENDAR
VERSION:2.0
PRODID:-//85.93.210.155//NONSGML kigkonsult.se iCalcreator 2.20//
CALSCALE:GREGORIAN
METHOD:PUBLISH
X-WR-TIMEZONE:Europe/Luxembourg
BEGIN:VEVENT
UID:event2@D.T. FÉNGIG A.S.B.L.
DTSTAMP:20210425T094916Z
CATEGORIES:Public
DESCRIPTION:Coupe Jempy Schmitz\nCategory: Public\nLink: https://dtfengig.l
 u/index.php?option=com_jem&view=event&id=2:coupe-jempy-schmitz-2017\n
DTSTART;TZID=Europe/Luxembourg:20170108T140000
DTEND;TZID=Europe/Luxembourg:20170108T140000
LOCATION:Sportshal Kéinzeg\,Rue de Selange\,4965 Kéinzeg
SUMMARY:Coupe Jempy Schmitz
URL:https://dtfengig.lu/index.php?option=com_jem&view=event&id=2:coupe-jemp
 y-schmitz-2017
END:VEVENT
END:VCALENDAR
