BEGIN:VCALENDAR
VERSION:2.0
PRODID:-//85.93.210.155//NONSGML kigkonsult.se iCalcreator 2.20//
CALSCALE:GREGORIAN
METHOD:PUBLISH
X-WR-TIMEZONE:Europe/Luxembourg
BEGIN:VEVENT
UID:event22@D.T. FÉNGIG A.S.B.L.
DTSTAMP:20210425T094728Z
CATEGORIES:Public
DESCRIPTION:5. Spilldag Championat Seniors 2017/18\nCategory: Public\nLink:
  https://dtfengig.lu/index.php?option=com_jem&view=event&id=22:5-spilldag-
 2017-18\n
DTSTART;TZID=Europe/Luxembourg:20171111T183000
DTEND;TZID=Europe/Luxembourg:20171111T230000
LOCATION:'Vereinsbau' Féngig\,31 Rue Centrale\,4978 Féngig
SUMMARY:5. Spilldag Championat Seniors 2017/18
URL:https://dtfengig.lu/index.php?option=com_jem&view=event&id=22:5-spillda
 g-2017-18
END:VEVENT
END:VCALENDAR
