BEGIN:VCALENDAR
VERSION:2.0
PRODID:-//85.93.210.155//NONSGML kigkonsult.se iCalcreator 2.20//
CALSCALE:GREGORIAN
METHOD:PUBLISH
X-WR-TIMEZONE:Europe/Luxembourg
BEGIN:VEVENT
UID:event30@D.T. FÉNGIG A.S.B.L.
DTSTAMP:20210425T094609Z
CATEGORIES:Public
DESCRIPTION:13. Spilldag Championat Seniors 2017/18\nCategory: Public\nLink
 : https://dtfengig.lu/index.php?option=com_jem&view=event&id=30:13-spillda
 g-2017-18\n
DTSTART;TZID=Europe/Luxembourg:20180127T183000
DTEND;TZID=Europe/Luxembourg:20180127T230000
LOCATION:'Vereinsbau' Féngig\,31 Rue Centrale\,4978 Féngig
SUMMARY:13. Spilldag Championat Seniors 2017/18
URL:https://dtfengig.lu/index.php?option=com_jem&view=event&id=30:13-spilld
 ag-2017-18
END:VEVENT
END:VCALENDAR
