BEGIN:VCALENDAR
VERSION:2.0
PRODID:-//85.93.210.155//NONSGML kigkonsult.se iCalcreator 2.20//
CALSCALE:GREGORIAN
METHOD:PUBLISH
X-WR-TIMEZONE:Europe/Luxembourg
BEGIN:VEVENT
UID:event4@D.T. FÉNGIG A.S.B.L.
DTSTAMP:20210425T094815Z
CATEGORIES:Public
DESCRIPTION:10ième Marche Gourmande\nCategory: Public\nLink: https://dtfeng
 ig.lu/index.php?option=com_jem&view=event&id=4:10ieme-marche-gourmande\n
DTSTART;TZID=Europe/Luxembourg:20170618T090000
DTEND;TZID=Europe/Luxembourg:20170618T235900
LOCATION:'Vereinsbau' Féngig\,31 Rue Centrale\,4978 Féngig
SUMMARY:10ième Marche Gourmande
URL:https://dtfengig.lu/index.php?option=com_jem&view=event&id=4:10ieme-mar
 che-gourmande
END:VEVENT
END:VCALENDAR
