BEGIN:VCALENDAR
VERSION:2.0
PRODID:-//85.93.210.155//NONSGML kigkonsult.se iCalcreator 2.20//
CALSCALE:GREGORIAN
METHOD:PUBLISH
X-WR-TIMEZONE:Europe/Luxembourg
BEGIN:VEVENT
UID:event7@D.T. FÉNGIG A.S.B.L.
DTSTAMP:20210425T094830Z
CATEGORIES:Public
DESCRIPTION:Tournoi de la Bonne Entente\nCategory: Public\nLink: https://dt
 fengig.lu/index.php?option=com_jem&view=event&id=7:tournoi-de-la-bonne-ent
 ente-2017\n
DTSTART;VALUE=DATE:20170525
DTEND;VALUE=DATE:20170526
LOCATION:Sportshal Kéinzeg\,Rue de Selange\,4965 Kéinzeg
SUMMARY:Tournoi de la Bonne Entente
URL:https://dtfengig.lu/index.php?option=com_jem&view=event&id=7:tournoi-de
 -la-bonne-entente-2017
END:VEVENT
END:VCALENDAR
