BEGIN:VCALENDAR
VERSION:2.0
PRODID:-//85.93.210.155//NONSGML kigkonsult.se iCalcreator 2.20//
CALSCALE:GREGORIAN
METHOD:PUBLISH
X-WR-TIMEZONE:Europe/Luxembourg
BEGIN:VEVENT
UID:event8@D.T. FÉNGIG A.S.B.L.
DTSTAMP:20210425T094824Z
CATEGORIES:Public
DESCRIPTION:59. Generalversammlung\nCategory: Public\nLink: https://dtfengi
 g.lu/index.php?option=com_jem&view=event&id=8:59-generalversammlung\n
DTSTART;TZID=Europe/Luxembourg:20170527T170000
DTEND;TZID=Europe/Luxembourg:20170527T190000
LOCATION:'Vereinsbau' Féngig\,31 Rue Centrale\,4978 Féngig
SUMMARY:59. Generalversammlung
URL:https://dtfengig.lu/index.php?option=com_jem&view=event&id=8:59-general
 versammlung
END:VEVENT
END:VCALENDAR
